BEGIN:VCALENDAR
VERSION:2.0
PRODID:-//Tukios.com/
BEGIN:VEVENT
UID:6b561c5f-65cb-4e72-9169-330148c6bd7a@obituaries.siskbutler.com
DTSTAMP:20260425T011824Z
DTSTART:20260429
SUMMARY:Interment
DESCRIPTION:
URL:https://obituaries.siskbutler.com/obituaries/shirley-whetstine
LOCATION: 800 N 13th St  Bessemer City NC 28016
GEO:35.2936015;-81.2820034
END:VEVENT
END:VCALENDAR