BEGIN:VCALENDAR
VERSION:2.0
PRODID:-//Tukios.com/
BEGIN:VEVENT
UID:791acf82-ec09-44da-a6ad-437d03d3dc26@obituaries.siskbutler.com
DTSTAMP:20260425T011747Z
DTSTART:20260429T180000Z
DTEND:20260429T190000Z
SUMMARY:Funeral Service
DESCRIPTION:
URL:https://obituaries.siskbutler.com/obituaries/shirley-whetstine
LOCATION:Sisk-Butler Funeral Home 730 Gastonia Hwy  Bessemer City NC 
	28016
GEO:35.2859999;-81.2681003
END:VEVENT
END:VCALENDAR