BEGIN:VCALENDAR
VERSION:2.0
PRODID:-//Tukios.com/
BEGIN:VEVENT
UID:325bdc90-c5f0-461a-8f84-44a407d4c70f@obituaries.siskbutler.com
DTSTAMP:20260425T011952Z
DTSTART:20260429T170000Z
DTEND:20260429T174500Z
SUMMARY:Visitation
DESCRIPTION:
URL:https://obituaries.siskbutler.com/obituaries/shirley-whetstine
LOCATION: 730 Gastonia Hwy  Bessemer City NC 28016
GEO:35.2859999;-81.2681003
END:VEVENT
END:VCALENDAR