BEGIN:VCALENDAR
VERSION:2.0
PRODID:-//Tukios.com/
BEGIN:VEVENT
UID:29021b7d-a77d-493a-a181-3142c6806a42@obituaries.siskbutler.com
DTSTAMP:20260420T233045Z
DTSTART:20260422
SUMMARY:Visitation
DESCRIPTION:
URL:https://obituaries.siskbutler.com/obituaries/mary-libby-nash
LOCATION: 800 N 13th St  Bessemer City NC 28016
GEO:35.2936015;-81.2820034
END:VEVENT
END:VCALENDAR