BEGIN:VCALENDAR
VERSION:2.0
PRODID:-//Tukios.com/
BEGIN:VEVENT
UID:20ac2cfa-5d29-4cce-878a-1c9a6910187c@obituaries.siskbutler.com
DTSTAMP:20260420T232625Z
DTSTART:20260422T170000Z
DTEND:20260422T180000Z
SUMMARY:Graveside Service
DESCRIPTION:
URL:https://obituaries.siskbutler.com/obituaries/mary-libby-nash
LOCATION:Bessemer City Memorial Cemetery 800 N 13th St  Bessemer City NC 
	28016
GEO:35.2936015;-81.2820034
END:VEVENT
END:VCALENDAR