BEGIN:VCALENDAR
VERSION:2.0
PRODID:-//Tukios.com/
BEGIN:VEVENT
UID:6a890817-3d59-49e2-9c40-0b3c2723da8a@obituaries.siskbutler.com
DTSTAMP:20260420T204148Z
DTSTART:20260424T170000Z
DTEND:20260424T180000Z
SUMMARY:Graveside Service
DESCRIPTION:
URL:https://obituaries.siskbutler.com/obituaries/lawrence-rowland
LOCATION:Hollywood Cemetery 540 N Broad St  Gastonia NC 28054
GEO:35.271969;-81.175456
END:VEVENT
END:VCALENDAR