BEGIN:VCALENDAR
VERSION:2.0
PRODID:-//Tukios.com/
BEGIN:VEVENT
UID:fcd04f74-f445-41cf-bfe5-340ee3897dc1@obituaries.siskbutler.com
DTSTAMP:20260424T203432Z
DTSTART:20260503T190000Z
DTEND:20260503T230000Z
SUMMARY:Visitation
DESCRIPTION:
URL:https://obituaries.siskbutler.com/obituaries/john-baynard
LOCATION:Rankin Lake Lakefront Pavilion 1750 Rankin Lake Rd  Gastonia NC 
	28052
GEO:35.2944361;-81.190596
END:VEVENT
END:VCALENDAR